BEGIN:VCALENDAR
VERSION:2.0
PRODID:-// - ECPv6.15.20//NONSGML v1.0//EN
CALSCALE:GREGORIAN
METHOD:PUBLISH
X-ORIGINAL-URL:https://ntc93.com
X-WR-CALDESC:Veranstaltungen für 
REFRESH-INTERVAL;VALUE=DURATION:PT1H
X-Robots-Tag:noindex
X-PUBLISHED-TTL:PT1H
BEGIN:VTIMEZONE
TZID:Europe/Berlin
BEGIN:DAYLIGHT
TZOFFSETFROM:+0100
TZOFFSETTO:+0200
TZNAME:CEST
DTSTART:20250330T010000
END:DAYLIGHT
BEGIN:STANDARD
TZOFFSETFROM:+0200
TZOFFSETTO:+0100
TZNAME:CET
DTSTART:20251026T010000
END:STANDARD
BEGIN:DAYLIGHT
TZOFFSETFROM:+0100
TZOFFSETTO:+0200
TZNAME:CEST
DTSTART:20260329T010000
END:DAYLIGHT
BEGIN:STANDARD
TZOFFSETFROM:+0200
TZOFFSETTO:+0100
TZNAME:CET
DTSTART:20261025T010000
END:STANDARD
BEGIN:DAYLIGHT
TZOFFSETFROM:+0100
TZOFFSETTO:+0200
TZNAME:CEST
DTSTART:20270328T010000
END:DAYLIGHT
BEGIN:STANDARD
TZOFFSETFROM:+0200
TZOFFSETTO:+0100
TZNAME:CET
DTSTART:20271031T010000
END:STANDARD
END:VTIMEZONE
BEGIN:VEVENT
DTSTART;TZID=Europe/Berlin:20260523T080000
DTEND;TZID=Europe/Berlin:20260523T210000
DTSTAMP:20260422T130006
CREATED:20251030T102239Z
LAST-MODIFIED:20251030T102239Z
UID:5945-1779523200-1779570000@ntc93.com
SUMMARY:Doppel-LK-Turnier
DESCRIPTION:
URL:https://ntc93.com/event/doppel-lk-turnier/
LOCATION:NTC 93\, Hildesheimer Straße 11/13\, Neuenhagen\, 15366\, Deutschland
END:VEVENT
BEGIN:VEVENT
DTSTART;TZID=Europe/Berlin:20260525T100000
DTEND;TZID=Europe/Berlin:20260525T170000
DTSTAMP:20260422T130006
CREATED:20251030T102313Z
LAST-MODIFIED:20251030T102313Z
UID:5947-1779703200-1779728400@ntc93.com
SUMMARY:Pfingst-Doppel-Turnier
DESCRIPTION:
URL:https://ntc93.com/event/pfingst-doppel-turnier-2/
LOCATION:NTC 93\, Hildesheimer Straße 11/13\, Neuenhagen\, 15366\, Deutschland
END:VEVENT
END:VCALENDAR