BEGIN:VCALENDAR
VERSION:2.0
PRODID:-// - ECPv6.15.20//NONSGML v1.0//EN
CALSCALE:GREGORIAN
METHOD:PUBLISH
X-ORIGINAL-URL:https://ntc93.com
X-WR-CALDESC:Veranstaltungen für 
REFRESH-INTERVAL;VALUE=DURATION:PT1H
X-Robots-Tag:noindex
X-PUBLISHED-TTL:PT1H
BEGIN:VTIMEZONE
TZID:Europe/Berlin
BEGIN:DAYLIGHT
TZOFFSETFROM:+0100
TZOFFSETTO:+0200
TZNAME:CEST
DTSTART:20240331T010000
END:DAYLIGHT
BEGIN:STANDARD
TZOFFSETFROM:+0200
TZOFFSETTO:+0100
TZNAME:CET
DTSTART:20241027T010000
END:STANDARD
BEGIN:DAYLIGHT
TZOFFSETFROM:+0100
TZOFFSETTO:+0200
TZNAME:CEST
DTSTART:20250330T010000
END:DAYLIGHT
BEGIN:STANDARD
TZOFFSETFROM:+0200
TZOFFSETTO:+0100
TZNAME:CET
DTSTART:20251026T010000
END:STANDARD
BEGIN:DAYLIGHT
TZOFFSETFROM:+0100
TZOFFSETTO:+0200
TZNAME:CEST
DTSTART:20260329T010000
END:DAYLIGHT
BEGIN:STANDARD
TZOFFSETFROM:+0200
TZOFFSETTO:+0100
TZNAME:CET
DTSTART:20261025T010000
END:STANDARD
END:VTIMEZONE
BEGIN:VEVENT
DTSTART;VALUE=DATE:20250901
DTEND;VALUE=DATE:20250908
DTSTAMP:20260422T220210
CREATED:20241107T162444Z
LAST-MODIFIED:20241107T162444Z
UID:4868-1756684800-1757289599@ntc93.com
SUMMARY:Usedom-Camp für Kinder & Jugendliche
DESCRIPTION:
URL:https://ntc93.com/event/usedom-camp-fuer-kinder-jugendliche/
END:VEVENT
BEGIN:VEVENT
DTSTART;TZID=Europe/Berlin:20250913T100000
DTEND;TZID=Europe/Berlin:20250913T170000
DTSTAMP:20260422T220210
CREATED:20250422T151255Z
LAST-MODIFIED:20250422T151255Z
UID:5246-1757757600-1757782800@ntc93.com
SUMMARY:Oktoberfest Neuenhagen mit NTC-Stand
DESCRIPTION:
URL:https://ntc93.com/event/oktoberfest-neuenhagen-mit-ntc-stand/
LOCATION:Neuenhagen
END:VEVENT
BEGIN:VEVENT
DTSTART;TZID=Europe/Berlin:20250927T100000
DTEND;TZID=Europe/Berlin:20250927T120000
DTSTAMP:20260422T220210
CREATED:20250422T151132Z
LAST-MODIFIED:20250422T151132Z
UID:5244-1758967200-1758974400@ntc93.com
SUMMARY:Arbeitseinsatz Halle
DESCRIPTION:
URL:https://ntc93.com/event/arbeitseinsatz-halle-2/
LOCATION:NTC 93\, Hildesheimer Straße 11/13\, Neuenhagen\, 15366\, Deutschland
END:VEVENT
END:VCALENDAR