BEGIN:VCALENDAR
VERSION:2.0
PRODID:-// - ECPv6.15.20//NONSGML v1.0//EN
CALSCALE:GREGORIAN
METHOD:PUBLISH
X-ORIGINAL-URL:https://ntc93.com
X-WR-CALDESC:Veranstaltungen für 
REFRESH-INTERVAL;VALUE=DURATION:PT1H
X-Robots-Tag:noindex
X-PUBLISHED-TTL:PT1H
BEGIN:VTIMEZONE
TZID:Europe/Berlin
BEGIN:DAYLIGHT
TZOFFSETFROM:+0100
TZOFFSETTO:+0200
TZNAME:CEST
DTSTART:20240331T010000
END:DAYLIGHT
BEGIN:STANDARD
TZOFFSETFROM:+0200
TZOFFSETTO:+0100
TZNAME:CET
DTSTART:20241027T010000
END:STANDARD
BEGIN:DAYLIGHT
TZOFFSETFROM:+0100
TZOFFSETTO:+0200
TZNAME:CEST
DTSTART:20250330T010000
END:DAYLIGHT
BEGIN:STANDARD
TZOFFSETFROM:+0200
TZOFFSETTO:+0100
TZNAME:CET
DTSTART:20251026T010000
END:STANDARD
BEGIN:DAYLIGHT
TZOFFSETFROM:+0100
TZOFFSETTO:+0200
TZNAME:CEST
DTSTART:20260329T010000
END:DAYLIGHT
BEGIN:STANDARD
TZOFFSETFROM:+0200
TZOFFSETTO:+0100
TZNAME:CET
DTSTART:20261025T010000
END:STANDARD
END:VTIMEZONE
BEGIN:VEVENT
DTSTART;TZID=Europe/Berlin:20250803T100000
DTEND;TZID=Europe/Berlin:20250803T160000
DTSTAMP:20260422T235518
CREATED:20241107T162137Z
LAST-MODIFIED:20250801T171857Z
UID:4860-1754215200-1754236800@ntc93.com
SUMMARY:NTC-LK-Turnier
DESCRIPTION:
URL:https://ntc93.com/event/ntc-lk-turnier-4/
LOCATION:NTC 93\, Hildesheimer Straße 11/13\, Neuenhagen\, 15366\, Deutschland
END:VEVENT
BEGIN:VEVENT
DTSTART;VALUE=DATE:20250808
DTEND;VALUE=DATE:20250811
DTSTAMP:20260422T235518
CREATED:20241107T162229Z
LAST-MODIFIED:20241107T162229Z
UID:4862-1754611200-1754870399@ntc93.com
SUMMARY:8. Neuenhagen Junior Open
DESCRIPTION:
URL:https://ntc93.com/event/8-neuenhagen-junior-open/
LOCATION:NTC 93\, Hildesheimer Straße 11/13\, Neuenhagen\, 15366\, Deutschland
END:VEVENT
BEGIN:VEVENT
DTSTART;TZID=Europe/Berlin:20250823T100000
DTEND;TZID=Europe/Berlin:20250823T170000
DTSTAMP:20260422T235518
CREATED:20250715T095653Z
LAST-MODIFIED:20250715T095653Z
UID:5727-1755943200-1755968400@ntc93.com
SUMMARY:Ladies Cup
DESCRIPTION:
URL:https://ntc93.com/event/ladies-cup/
LOCATION:NTC 93\, Hildesheimer Straße 11/13\, Neuenhagen\, 15366\, Deutschland
ORGANIZER;CN="Neuenhagener TC 93":MAILTO:info@ntc93.de
END:VEVENT
END:VCALENDAR