BEGIN:VCALENDAR
VERSION:2.0
PRODID:-// - ECPv6.15.20//NONSGML v1.0//EN
CALSCALE:GREGORIAN
METHOD:PUBLISH
X-ORIGINAL-URL:https://ntc93.com
X-WR-CALDESC:Veranstaltungen für 
REFRESH-INTERVAL;VALUE=DURATION:PT1H
X-Robots-Tag:noindex
X-PUBLISHED-TTL:PT1H
BEGIN:VTIMEZONE
TZID:Europe/Berlin
BEGIN:DAYLIGHT
TZOFFSETFROM:+0100
TZOFFSETTO:+0200
TZNAME:CEST
DTSTART:20240331T010000
END:DAYLIGHT
BEGIN:STANDARD
TZOFFSETFROM:+0200
TZOFFSETTO:+0100
TZNAME:CET
DTSTART:20241027T010000
END:STANDARD
BEGIN:DAYLIGHT
TZOFFSETFROM:+0100
TZOFFSETTO:+0200
TZNAME:CEST
DTSTART:20250330T010000
END:DAYLIGHT
BEGIN:STANDARD
TZOFFSETFROM:+0200
TZOFFSETTO:+0100
TZNAME:CET
DTSTART:20251026T010000
END:STANDARD
BEGIN:DAYLIGHT
TZOFFSETFROM:+0100
TZOFFSETTO:+0200
TZNAME:CEST
DTSTART:20260329T010000
END:DAYLIGHT
BEGIN:STANDARD
TZOFFSETFROM:+0200
TZOFFSETTO:+0100
TZNAME:CET
DTSTART:20261025T010000
END:STANDARD
END:VTIMEZONE
BEGIN:VEVENT
DTSTART;TZID=Europe/Berlin:20250702T090000
DTEND;TZID=Europe/Berlin:20250702T160000
DTSTAMP:20260423T015619
CREATED:20250303T134112Z
LAST-MODIFIED:20250303T134112Z
UID:5110-1751446800-1751472000@ntc93.com
SUMMARY:Jugend traininert für Olympia
DESCRIPTION:
URL:https://ntc93.com/event/jugend-traininert-fuer-olympia/
LOCATION:NTC 93\, Hildesheimer Straße 11/13\, Neuenhagen\, 15366\, Deutschland
END:VEVENT
BEGIN:VEVENT
DTSTART;TZID=Europe/Berlin:20250710T190000
DTEND;TZID=Europe/Berlin:20250710T220000
DTSTAMP:20260423T015619
CREATED:20250303T134203Z
LAST-MODIFIED:20250303T134203Z
UID:5112-1752174000-1752184800@ntc93.com
SUMMARY:Neumitglieder-Treffen
DESCRIPTION:
URL:https://ntc93.com/event/neumitglieder-treffen-2/
LOCATION:Clubhaus NTC 93\, Hildesheimer Straße 11-13\, Neuenhagen
END:VEVENT
END:VCALENDAR