BEGIN:VCALENDAR
VERSION:2.0
PRODID:-// - ECPv6.15.20//NONSGML v1.0//EN
CALSCALE:GREGORIAN
METHOD:PUBLISH
X-ORIGINAL-URL:https://ntc93.com
X-WR-CALDESC:Veranstaltungen für 
REFRESH-INTERVAL;VALUE=DURATION:PT1H
X-Robots-Tag:noindex
X-PUBLISHED-TTL:PT1H
BEGIN:VTIMEZONE
TZID:Europe/Berlin
BEGIN:DAYLIGHT
TZOFFSETFROM:+0100
TZOFFSETTO:+0200
TZNAME:CEST
DTSTART:20240331T010000
END:DAYLIGHT
BEGIN:STANDARD
TZOFFSETFROM:+0200
TZOFFSETTO:+0100
TZNAME:CET
DTSTART:20241027T010000
END:STANDARD
BEGIN:DAYLIGHT
TZOFFSETFROM:+0100
TZOFFSETTO:+0200
TZNAME:CEST
DTSTART:20250330T010000
END:DAYLIGHT
BEGIN:STANDARD
TZOFFSETFROM:+0200
TZOFFSETTO:+0100
TZNAME:CET
DTSTART:20251026T010000
END:STANDARD
BEGIN:DAYLIGHT
TZOFFSETFROM:+0100
TZOFFSETTO:+0200
TZNAME:CEST
DTSTART:20260329T010000
END:DAYLIGHT
BEGIN:STANDARD
TZOFFSETFROM:+0200
TZOFFSETTO:+0100
TZNAME:CET
DTSTART:20261025T010000
END:STANDARD
END:VTIMEZONE
BEGIN:VEVENT
DTSTART;TZID=Europe/Berlin:20250607T080000
DTEND;TZID=Europe/Berlin:20250607T210000
DTSTAMP:20260423T033740
CREATED:20250430T073549Z
LAST-MODIFIED:20250604T061547Z
UID:5284-1749283200-1749330000@ntc93.com
SUMMARY:MIXED-LK-TURNIER
DESCRIPTION:Mixed Aktive\nMixed 40\nMixed 60
URL:https://ntc93.com/event/mixed-lk-turnier/
LOCATION:NTC 93\, Hildesheimer Straße 11/13\, Neuenhagen\, 15366\, Deutschland
END:VEVENT
BEGIN:VEVENT
DTSTART;TZID=Europe/Berlin:20250608T090000
DTEND;TZID=Europe/Berlin:20250608T180000
DTSTAMP:20260423T033740
CREATED:20241107T161614Z
LAST-MODIFIED:20241107T161614Z
UID:4846-1749373200-1749405600@ntc93.com
SUMMARY:NTC-Kids-Cup
DESCRIPTION:
URL:https://ntc93.com/event/ntc-kids-cup/
LOCATION:NTC 93\, Hildesheimer Straße 11/13\, Neuenhagen\, 15366\, Deutschland
END:VEVENT
BEGIN:VEVENT
DTSTART;TZID=Europe/Berlin:20250609T100000
DTEND;TZID=Europe/Berlin:20250609T150000
DTSTAMP:20260423T033740
CREATED:20241107T161654Z
LAST-MODIFIED:20241107T161654Z
UID:4848-1749463200-1749481200@ntc93.com
SUMMARY:Pfingst-Doppel-Turnier
DESCRIPTION:
URL:https://ntc93.com/event/pfingst-doppel-turnier/
LOCATION:NTC 93\, Hildesheimer Straße 11/13\, Neuenhagen\, 15366\, Deutschland
END:VEVENT
BEGIN:VEVENT
DTSTART;TZID=Europe/Berlin:20250615T090000
DTEND;TZID=Europe/Berlin:20250615T150000
DTSTAMP:20260423T033740
CREATED:20241107T161750Z
LAST-MODIFIED:20241107T161750Z
UID:4850-1749978000-1749999600@ntc93.com
SUMMARY:Arbeitseinsatz / Vorbereitung OPEN
DESCRIPTION:
URL:https://ntc93.com/event/arbeitseinsatz-vorbereitung-open-2/
LOCATION:NTC 93\, Hildesheimer Straße 11/13\, Neuenhagen\, 15366\, Deutschland
END:VEVENT
BEGIN:VEVENT
DTSTART;VALUE=DATE:20250617
DTEND;VALUE=DATE:20250623
DTSTAMP:20260423T033740
CREATED:20241107T161848Z
LAST-MODIFIED:20241107T161848Z
UID:4852-1750118400-1750636799@ntc93.com
SUMMARY:20. Neuenhagen Open
DESCRIPTION:
URL:https://ntc93.com/event/20-neuenhagen-open/
LOCATION:NTC 93\, Hildesheimer Straße 11/13\, Neuenhagen\, 15366\, Deutschland
END:VEVENT
BEGIN:VEVENT
DTSTART;VALUE=DATE:20250620
DTEND;VALUE=DATE:20250627
DTSTAMP:20260423T033740
CREATED:20241107T162012Z
LAST-MODIFIED:20241107T162012Z
UID:4856-1750377600-1750982399@ntc93.com
SUMMARY:8. Neuenhagen Senior Open
DESCRIPTION:
URL:https://ntc93.com/event/8-neuenhagen-senior-open/
LOCATION:NTC 93\, Hildesheimer Straße 11/13\, Neuenhagen\, 15366\, Deutschland
END:VEVENT
BEGIN:VEVENT
DTSTART;TZID=Europe/Berlin:20250621T190000
DTEND;TZID=Europe/Berlin:20250621T233000
DTSTAMP:20260423T033740
CREATED:20241107T161930Z
LAST-MODIFIED:20241107T161930Z
UID:4854-1750532400-1750548600@ntc93.com
SUMMARY:Sommerfest
DESCRIPTION:
URL:https://ntc93.com/event/sommerfest-2/
LOCATION:NTC 93\, Hildesheimer Straße 11/13\, Neuenhagen\, 15366\, Deutschland
END:VEVENT
END:VCALENDAR